BEGIN:VCALENDAR
VERSION:2.0
PRODID:-//eventon.com NONSGML v1.0//EN
CALSCALE:GREGORIAN
METHOD:PUBLISH
BEGIN:VEVENT
UID:69ea14be62cd6
DTSTAMP:20260423T124654Z
DTSTART:20220818T060000Z
DTEND:20220818T235000Z
LOCATION:
SUMMARY:Green Bin
DESCRIPTION:Green Bin\nhttps://localgoto.co.uk/events/green-bin/
URL:https://localgoto.co.uk/events/green-bin/
END:VEVENT
END:VCALENDAR